BEGIN:VCALENDAR
VERSION:2.0
PRODID:-//Koor Anahita - ECPv6.15.12.2//NONSGML v1.0//EN
CALSCALE:GREGORIAN
METHOD:PUBLISH
X-ORIGINAL-URL:https://koor.tuma-mashua.net
X-WR-CALDESC:Evenementen voor Koor Anahita
REFRESH-INTERVAL;VALUE=DURATION:PT1H
X-Robots-Tag:noindex
X-PUBLISHED-TTL:PT1H
BEGIN:VTIMEZONE
TZID:Europe/Paris
BEGIN:DAYLIGHT
TZOFFSETFROM:+0100
TZOFFSETTO:+0200
TZNAME:CEST
DTSTART:20250330T010000
END:DAYLIGHT
BEGIN:STANDARD
TZOFFSETFROM:+0200
TZOFFSETTO:+0100
TZNAME:CET
DTSTART:20251026T010000
END:STANDARD
BEGIN:DAYLIGHT
TZOFFSETFROM:+0100
TZOFFSETTO:+0200
TZNAME:CEST
DTSTART:20260329T010000
END:DAYLIGHT
BEGIN:STANDARD
TZOFFSETFROM:+0200
TZOFFSETTO:+0100
TZNAME:CET
DTSTART:20261025T010000
END:STANDARD
BEGIN:DAYLIGHT
TZOFFSETFROM:+0100
TZOFFSETTO:+0200
TZNAME:CEST
DTSTART:20270328T010000
END:DAYLIGHT
BEGIN:STANDARD
TZOFFSETFROM:+0200
TZOFFSETTO:+0100
TZNAME:CET
DTSTART:20271031T010000
END:STANDARD
END:VTIMEZONE
BEGIN:VEVENT
DTSTART;TZID=Europe/Paris:20260203T200000
DTEND;TZID=Europe/Paris:20260203T220000
DTSTAMP:20260420T021810
CREATED:20251125T100654Z
LAST-MODIFIED:20251128T093345Z
UID:837-1770148800-1770156000@koor.tuma-mashua.net
SUMMARY:Wekelijkse repetitie
DESCRIPTION:
URL:https://koor.tuma-mashua.net/event/837/
LOCATION:GC Den Bussel\, Haachtsebaan\, 54\, Keerbergen\, 3140\, Belgium
CATEGORIES:Openbaar,Repetities
END:VEVENT
BEGIN:VEVENT
DTSTART;TZID=Europe/Paris:20260210T200000
DTEND;TZID=Europe/Paris:20260210T220000
DTSTAMP:20260420T021810
CREATED:20251125T100929Z
LAST-MODIFIED:20251128T093336Z
UID:840-1770753600-1770760800@koor.tuma-mashua.net
SUMMARY:Wekelijkse repetitie
DESCRIPTION:
URL:https://koor.tuma-mashua.net/event/wekelijkse-repetitie-7/
LOCATION:GC Den Bussel\, Haachtsebaan\, 54\, Keerbergen\, 3140\, Belgium
CATEGORIES:Openbaar,Repetities
END:VEVENT
BEGIN:VEVENT
DTSTART;TZID=Europe/Paris:20260217T200000
DTEND;TZID=Europe/Paris:20260217T220000
DTSTAMP:20260420T021810
CREATED:20251125T095456Z
LAST-MODIFIED:20251128T093329Z
UID:821-1771358400-1771365600@koor.tuma-mashua.net
SUMMARY:Geen repetitie
DESCRIPTION:
URL:https://koor.tuma-mashua.net/event/geen-repetitie-4/
LOCATION:GC Den Bussel\, Haachtsebaan\, 54\, Keerbergen\, 3140\, Belgium
CATEGORIES:Openbaar,Repetities
END:VEVENT
BEGIN:VEVENT
DTSTART;TZID=Europe/Paris:20260224T200000
DTEND;TZID=Europe/Paris:20260224T220000
DTSTAMP:20260420T021810
CREATED:20251125T101104Z
LAST-MODIFIED:20251128T093318Z
UID:842-1771963200-1771970400@koor.tuma-mashua.net
SUMMARY:Wekelijkse repetitie
DESCRIPTION:
URL:https://koor.tuma-mashua.net/event/wekelijkse-repetitie-8/
LOCATION:GC Den Bussel\, Haachtsebaan\, 54\, Keerbergen\, 3140\, Belgium
CATEGORIES:Openbaar,Repetities
END:VEVENT
END:VCALENDAR