BEGIN:VCALENDAR
VERSION:2.0
PRODID:-//Koor Anahita - ECPv6.15.12.2//NONSGML v1.0//EN
CALSCALE:GREGORIAN
METHOD:PUBLISH
X-WR-CALNAME:Koor Anahita
X-ORIGINAL-URL:https://koor.tuma-mashua.net
X-WR-CALDESC:Evenementen voor Koor Anahita
REFRESH-INTERVAL;VALUE=DURATION:PT1H
X-Robots-Tag:noindex
X-PUBLISHED-TTL:PT1H
BEGIN:VTIMEZONE
TZID:Europe/Paris
BEGIN:DAYLIGHT
TZOFFSETFROM:+0100
TZOFFSETTO:+0200
TZNAME:CEST
DTSTART:20240331T010000
END:DAYLIGHT
BEGIN:STANDARD
TZOFFSETFROM:+0200
TZOFFSETTO:+0100
TZNAME:CET
DTSTART:20241027T010000
END:STANDARD
BEGIN:DAYLIGHT
TZOFFSETFROM:+0100
TZOFFSETTO:+0200
TZNAME:CEST
DTSTART:20250330T010000
END:DAYLIGHT
BEGIN:STANDARD
TZOFFSETFROM:+0200
TZOFFSETTO:+0100
TZNAME:CET
DTSTART:20251026T010000
END:STANDARD
BEGIN:DAYLIGHT
TZOFFSETFROM:+0100
TZOFFSETTO:+0200
TZNAME:CEST
DTSTART:20260329T010000
END:DAYLIGHT
BEGIN:STANDARD
TZOFFSETFROM:+0200
TZOFFSETTO:+0100
TZNAME:CET
DTSTART:20261025T010000
END:STANDARD
END:VTIMEZONE
BEGIN:VEVENT
DTSTART;TZID=Europe/Paris:20251224T100000
DTEND;TZID=Europe/Paris:20251224T170000
DTSTAMP:20260420T062547
CREATED:20251125T091611Z
LAST-MODIFIED:20251128T100055Z
UID:802-1766570400-1766595600@koor.tuma-mashua.net
SUMMARY:Openhouden schaatsbaan Keerbergen
DESCRIPTION:
URL:https://koor.tuma-mashua.net/event/openhouden-schaatsbaan-keerbergen/
LOCATION:Ijsbaan Keerbergen\, Gemeenteplein\, Keerbergen\, 3140\, Belgium
CATEGORIES:Koorevenementen,Openbaar
END:VEVENT
BEGIN:VEVENT
DTSTART;TZID=Europe/Paris:20251223T203000
DTEND;TZID=Europe/Paris:20251223T220000
DTSTAMP:20260420T062547
CREATED:20251125T091144Z
LAST-MODIFIED:20251128T093512Z
UID:798-1766521800-1766527200@koor.tuma-mashua.net
SUMMARY:Geen repetitie
DESCRIPTION:
URL:https://koor.tuma-mashua.net/event/geen-repetitie-2/
LOCATION:GC Den Bussel\, Haachtsebaan\, 54\, Keerbergen\, 3140\, Belgium
CATEGORIES:Openbaar,Repetities
END:VEVENT
BEGIN:VEVENT
DTSTART;TZID=Europe/Paris:20251216T200000
DTEND;TZID=Europe/Paris:20251216T220000
DTSTAMP:20260420T062547
CREATED:20251125T091017Z
LAST-MODIFIED:20251128T093523Z
UID:796-1765915200-1765922400@koor.tuma-mashua.net
SUMMARY:Geen repetitie
DESCRIPTION:
URL:https://koor.tuma-mashua.net/event/geen-repetitie/
LOCATION:GC Den Bussel\, Haachtsebaan\, 54\, Keerbergen\, 3140\, Belgium
CATEGORIES:Openbaar,Repetities
END:VEVENT
BEGIN:VEVENT
DTSTART;TZID=Europe/Paris:20251209T200000
DTEND;TZID=Europe/Paris:20251209T220000
DTSTAMP:20260420T062547
CREATED:20251125T093401Z
LAST-MODIFIED:20251128T093539Z
UID:814-1765310400-1765317600@koor.tuma-mashua.net
SUMMARY:Wekelijkse repetitie
DESCRIPTION:Speciaal gewijd aan de Kerstliederen voor de zangstonden in de schaatsbaan van Keerbergen
URL:https://koor.tuma-mashua.net/event/wekelijkse-repetitie-3/
LOCATION:Ijsbaan Keerbergen\, Gemeenteplein\, Keerbergen\, 3140\, Belgium
CATEGORIES:Openbaar,Repetities
END:VEVENT
BEGIN:VEVENT
DTSTART;TZID=Europe/Paris:20251202T200000
DTEND;TZID=Europe/Paris:20251202T220000
DTSTAMP:20260420T062547
CREATED:20251125T093140Z
LAST-MODIFIED:20251128T093530Z
UID:812-1764705600-1764712800@koor.tuma-mashua.net
SUMMARY:Wekelijkse repetitie
DESCRIPTION:Speciaal gewijd aan de Kerstliederen voor de zangstonde in de schaatsbaan van Kerbergen
URL:https://koor.tuma-mashua.net/event/wekelijkse-repetitie-2/
CATEGORIES:Openbaar,Repetities
END:VEVENT
BEGIN:VEVENT
DTSTART;TZID=Europe/Paris:20251125T200000
DTEND;TZID=Europe/Paris:20251125T220000
DTSTAMP:20260420T062547
CREATED:20250213T194305Z
LAST-MODIFIED:20251128T093548Z
UID:429-1764100800-1764108000@koor.tuma-mashua.net
SUMMARY:Wekelijkse repetitie
DESCRIPTION:
URL:https://koor.tuma-mashua.net/event/wekelijkse-repetitie-13/
LOCATION:GC Den Bussel\, Haachtsebaan\, 54\, Keerbergen\, 3140\, Belgium
CATEGORIES:Openbaar,Repetities
END:VEVENT
END:VCALENDAR