BEGIN:VCALENDAR
VERSION:2.0
PRODID:-//Koor Anahita - ECPv6.15.12.2//NONSGML v1.0//EN
CALSCALE:GREGORIAN
METHOD:PUBLISH
X-WR-CALNAME:Koor Anahita
X-ORIGINAL-URL:https://koor.tuma-mashua.net
X-WR-CALDESC:Evenementen voor Koor Anahita
REFRESH-INTERVAL;VALUE=DURATION:PT1H
X-Robots-Tag:noindex
X-PUBLISHED-TTL:PT1H
BEGIN:VTIMEZONE
TZID:Europe/Paris
BEGIN:DAYLIGHT
TZOFFSETFROM:+0100
TZOFFSETTO:+0200
TZNAME:CEST
DTSTART:20250330T010000
END:DAYLIGHT
BEGIN:STANDARD
TZOFFSETFROM:+0200
TZOFFSETTO:+0100
TZNAME:CET
DTSTART:20251026T010000
END:STANDARD
BEGIN:DAYLIGHT
TZOFFSETFROM:+0100
TZOFFSETTO:+0200
TZNAME:CEST
DTSTART:20260329T010000
END:DAYLIGHT
BEGIN:STANDARD
TZOFFSETFROM:+0200
TZOFFSETTO:+0100
TZNAME:CET
DTSTART:20261025T010000
END:STANDARD
BEGIN:DAYLIGHT
TZOFFSETFROM:+0100
TZOFFSETTO:+0200
TZNAME:CEST
DTSTART:20270328T010000
END:DAYLIGHT
BEGIN:STANDARD
TZOFFSETFROM:+0200
TZOFFSETTO:+0100
TZNAME:CET
DTSTART:20271031T010000
END:STANDARD
END:VTIMEZONE
BEGIN:VEVENT
DTSTART;TZID=Europe/Paris:20260627T080000
DTEND;TZID=Europe/Paris:20260627T170000
DTSTAMP:20260420T084341
CREATED:20251003T192913Z
LAST-MODIFIED:20251003T194040Z
UID:758-1782547200-1782579600@koor.tuma-mashua.net
SUMMARY:Koorfeest Alten
DESCRIPTION:Het jaarlijkse koorfeest van Anahita in 2026 georganiseerd door de Alten
URL:https://koor.tuma-mashua.net/event/koorfeest-alten/
LOCATION:GC Den Bussel\, Haachtsebaan\, 54\, Keerbergen\, 3140\, Belgium
CATEGORIES:Leden
ATTACH;FMTTYPE=image/jpeg:https://koor.tuma-mashua.net/wp-content/uploads/sites/7/2025/01/four-beautiful-girls-resting-party-blue-wall-scaled.jpg
END:VEVENT
BEGIN:VEVENT
DTSTART;TZID=Europe/Paris:20260630T080000
DTEND;TZID=Europe/Paris:20260630T170000
DTSTAMP:20260420T084341
CREATED:20251003T193207Z
LAST-MODIFIED:20251125T110846Z
UID:760-1782806400-1782838800@koor.tuma-mashua.net
SUMMARY:Laatste repetitie van het werkjaar
DESCRIPTION:
URL:https://koor.tuma-mashua.net/event/laatste-repetitie-van-het-werkjaar/
LOCATION:GC Den Bussel\, Haachtsebaan\, 54\, Keerbergen\, 3140\, Belgium
CATEGORIES:Repetities
ATTACH;FMTTYPE=image/jpeg:https://koor.tuma-mashua.net/wp-content/uploads/sites/7/2025/01/beach-6517214_640.jpg
END:VEVENT
END:VCALENDAR