BEGIN:VCALENDAR
VERSION:2.0
PRODID:-//Koor Anahita - ECPv6.15.12.2//NONSGML v1.0//EN
CALSCALE:GREGORIAN
METHOD:PUBLISH
X-WR-CALNAME:Koor Anahita
X-ORIGINAL-URL:https://koor.tuma-mashua.net
X-WR-CALDESC:Evenementen voor Koor Anahita
REFRESH-INTERVAL;VALUE=DURATION:PT1H
X-Robots-Tag:noindex
X-PUBLISHED-TTL:PT1H
BEGIN:VTIMEZONE
TZID:Europe/Paris
BEGIN:DAYLIGHT
TZOFFSETFROM:+0100
TZOFFSETTO:+0200
TZNAME:CEST
DTSTART:20240331T010000
END:DAYLIGHT
BEGIN:STANDARD
TZOFFSETFROM:+0200
TZOFFSETTO:+0100
TZNAME:CET
DTSTART:20241027T010000
END:STANDARD
BEGIN:DAYLIGHT
TZOFFSETFROM:+0100
TZOFFSETTO:+0200
TZNAME:CEST
DTSTART:20250330T010000
END:DAYLIGHT
BEGIN:STANDARD
TZOFFSETFROM:+0200
TZOFFSETTO:+0100
TZNAME:CET
DTSTART:20251026T010000
END:STANDARD
BEGIN:DAYLIGHT
TZOFFSETFROM:+0100
TZOFFSETTO:+0200
TZNAME:CEST
DTSTART:20260329T010000
END:DAYLIGHT
BEGIN:STANDARD
TZOFFSETFROM:+0200
TZOFFSETTO:+0100
TZNAME:CET
DTSTART:20261025T010000
END:STANDARD
BEGIN:DAYLIGHT
TZOFFSETFROM:+0100
TZOFFSETTO:+0200
TZNAME:CEST
DTSTART:20270328T010000
END:DAYLIGHT
BEGIN:STANDARD
TZOFFSETFROM:+0200
TZOFFSETTO:+0100
TZNAME:CET
DTSTART:20271031T010000
END:STANDARD
END:VTIMEZONE
BEGIN:VEVENT
DTSTART;TZID=Europe/Paris:20260331T080000
DTEND;TZID=Europe/Paris:20260331T170000
DTSTAMP:20260420T063459
CREATED:20251125T101312Z
LAST-MODIFIED:20251128T093212Z
UID:844-1774944000-1774976400@koor.tuma-mashua.net
SUMMARY:Wekelijkse repetitie
DESCRIPTION:
URL:https://koor.tuma-mashua.net/event/wekelijkse-repetitie-9/
LOCATION:GC Den Bussel\, Haachtsebaan\, 54\, Keerbergen\, 3140\, Belgium
CATEGORIES:Openbaar,Repetities
END:VEVENT
BEGIN:VEVENT
DTSTART;TZID=Europe/Paris:20260324T200000
DTEND;TZID=Europe/Paris:20260324T220000
DTSTAMP:20260420T063501
CREATED:20251125T100029Z
LAST-MODIFIED:20251128T093240Z
UID:827-1774382400-1774389600@koor.tuma-mashua.net
SUMMARY:Geen repetitie
DESCRIPTION:
URL:https://koor.tuma-mashua.net/event/827/
LOCATION:GC Den Bussel\, Haachtsebaan\, 54\, Keerbergen\, 3140\, Belgium
CATEGORIES:Openbaar,Repetities
END:VEVENT
BEGIN:VEVENT
DTSTART;TZID=Europe/Paris:20260317T200000
DTEND;TZID=Europe/Paris:20260317T220000
DTSTAMP:20260420T063501
CREATED:20251125T095927Z
LAST-MODIFIED:20251128T093250Z
UID:825-1773777600-1773784800@koor.tuma-mashua.net
SUMMARY:Geen repetitie
DESCRIPTION:
URL:https://koor.tuma-mashua.net/event/geen-repetitie-6/
LOCATION:GC Den Bussel\, Haachtsebaan\, 54\, Keerbergen\, 3140\, Belgium
CATEGORIES:Openbaar,Repetities
END:VEVENT
BEGIN:VEVENT
DTSTART;TZID=Europe/Paris:20260310T200000
DTEND;TZID=Europe/Paris:20260310T220000
DTSTAMP:20260420T063501
CREATED:20251125T095809Z
LAST-MODIFIED:20251128T093257Z
UID:823-1773172800-1773180000@koor.tuma-mashua.net
SUMMARY:Geen repetitie
DESCRIPTION:
URL:https://koor.tuma-mashua.net/event/geen-repetitie-5/
LOCATION:GC Den Bussel\, Haachtsebaan\, 54\, Keerbergen\, 3140\, Belgium
CATEGORIES:Openbaar,Repetities
END:VEVENT
BEGIN:VEVENT
DTSTART;TZID=Europe/Paris:20260303T200000
DTEND;TZID=Europe/Paris:20260303T220000
DTSTAMP:20260420T063501
CREATED:20251125T101539Z
LAST-MODIFIED:20251128T093306Z
UID:847-1772568000-1772575200@koor.tuma-mashua.net
SUMMARY:Wekelijkse repetitie
DESCRIPTION:
URL:https://koor.tuma-mashua.net/event/wekelijkse-repetitie-10/
LOCATION:GC Den Bussel\, Haachtsebaan\, 54\, Keerbergen\, 3140\, Belgium
CATEGORIES:Openbaar,Repetities
END:VEVENT
BEGIN:VEVENT
DTSTART;TZID=Europe/Paris:20260224T200000
DTEND;TZID=Europe/Paris:20260224T220000
DTSTAMP:20260420T063501
CREATED:20251125T101104Z
LAST-MODIFIED:20251128T093318Z
UID:842-1771963200-1771970400@koor.tuma-mashua.net
SUMMARY:Wekelijkse repetitie
DESCRIPTION:
URL:https://koor.tuma-mashua.net/event/wekelijkse-repetitie-8/
LOCATION:GC Den Bussel\, Haachtsebaan\, 54\, Keerbergen\, 3140\, Belgium
CATEGORIES:Openbaar,Repetities
END:VEVENT
BEGIN:VEVENT
DTSTART;TZID=Europe/Paris:20260217T200000
DTEND;TZID=Europe/Paris:20260217T220000
DTSTAMP:20260420T063501
CREATED:20251125T095456Z
LAST-MODIFIED:20251128T093329Z
UID:821-1771358400-1771365600@koor.tuma-mashua.net
SUMMARY:Geen repetitie
DESCRIPTION:
URL:https://koor.tuma-mashua.net/event/geen-repetitie-4/
LOCATION:GC Den Bussel\, Haachtsebaan\, 54\, Keerbergen\, 3140\, Belgium
CATEGORIES:Openbaar,Repetities
END:VEVENT
BEGIN:VEVENT
DTSTART;TZID=Europe/Paris:20260210T200000
DTEND;TZID=Europe/Paris:20260210T220000
DTSTAMP:20260420T063501
CREATED:20251125T100929Z
LAST-MODIFIED:20251128T093336Z
UID:840-1770753600-1770760800@koor.tuma-mashua.net
SUMMARY:Wekelijkse repetitie
DESCRIPTION:
URL:https://koor.tuma-mashua.net/event/wekelijkse-repetitie-7/
LOCATION:GC Den Bussel\, Haachtsebaan\, 54\, Keerbergen\, 3140\, Belgium
CATEGORIES:Openbaar,Repetities
END:VEVENT
BEGIN:VEVENT
DTSTART;TZID=Europe/Paris:20260203T200000
DTEND;TZID=Europe/Paris:20260203T220000
DTSTAMP:20260420T063501
CREATED:20251125T100654Z
LAST-MODIFIED:20251128T093345Z
UID:837-1770148800-1770156000@koor.tuma-mashua.net
SUMMARY:Wekelijkse repetitie
DESCRIPTION:
URL:https://koor.tuma-mashua.net/event/837/
LOCATION:GC Den Bussel\, Haachtsebaan\, 54\, Keerbergen\, 3140\, Belgium
CATEGORIES:Openbaar,Repetities
END:VEVENT
BEGIN:VEVENT
DTSTART;TZID=Europe/Paris:20260127T200000
DTEND;TZID=Europe/Paris:20260127T220000
DTSTAMP:20260420T063501
CREATED:20251125T100446Z
LAST-MODIFIED:20251125T110801Z
UID:833-1769544000-1769551200@koor.tuma-mashua.net
SUMMARY:Wekelijkse repetitie
DESCRIPTION:
URL:https://koor.tuma-mashua.net/event/wekelijkse-repetitie-6/
LOCATION:GC Den Bussel\, Haachtsebaan\, 54\, Keerbergen\, 3140\, Belgium
CATEGORIES:Repetities
END:VEVENT
BEGIN:VEVENT
DTSTART;TZID=Europe/Paris:20260120T200000
DTEND;TZID=Europe/Paris:20260120T220000
DTSTAMP:20260420T063501
CREATED:20251125T100340Z
LAST-MODIFIED:20251201T193731Z
UID:831-1768939200-1768946400@koor.tuma-mashua.net
SUMMARY:Wekelijkse repetitie
DESCRIPTION:
URL:https://koor.tuma-mashua.net/event/wekelijkse-repetitie/
LOCATION:GC Den Bussel\, Haachtsebaan\, 54\, Keerbergen\, 3140\, Belgium
CATEGORIES:Openbaar,Repetities
END:VEVENT
BEGIN:VEVENT
DTSTART;TZID=Europe/Paris:20260113T200000
DTEND;TZID=Europe/Paris:20260113T220000
DTSTAMP:20260420T063501
CREATED:20251125T100225Z
LAST-MODIFIED:20251128T093408Z
UID:829-1768334400-1768341600@koor.tuma-mashua.net
SUMMARY:Wekelijkse repetitie
DESCRIPTION:
URL:https://koor.tuma-mashua.net/event/wekelijkse-repetitie-5/
LOCATION:GC Den Bussel\, Haachtsebaan\, 54\, Keerbergen\, 3140\, Belgium
CATEGORIES:Openbaar,Repetities
END:VEVENT
BEGIN:VEVENT
DTSTART;TZID=Europe/Paris:20260106T210000
DTEND;TZID=Europe/Paris:20260106T220000
DTSTAMP:20260420T063501
CREATED:20251125T093644Z
LAST-MODIFIED:20251125T110035Z
UID:816-1767733200-1767736800@koor.tuma-mashua.net
SUMMARY:Nieuwjaarsreceptie
DESCRIPTION:
URL:https://koor.tuma-mashua.net/event/nieuwjaarsreceptie/
LOCATION:GC Den Bussel\, Haachtsebaan\, 54\, Keerbergen\, 3140\, Belgium
CATEGORIES:Koorevenementen,Leden
END:VEVENT
BEGIN:VEVENT
DTSTART;TZID=Europe/Paris:20260106T200000
DTEND;TZID=Europe/Paris:20260106T210000
DTSTAMP:20260420T063501
CREATED:20251125T093754Z
LAST-MODIFIED:20251128T093423Z
UID:818-1767729600-1767733200@koor.tuma-mashua.net
SUMMARY:Wekelijkse repetitie
DESCRIPTION:
URL:https://koor.tuma-mashua.net/event/wekelijkse-repetitie-4/
LOCATION:Ijsbaan Keerbergen\, Gemeenteplein\, Keerbergen\, 3140\, Belgium
CATEGORIES:Openbaar,Repetities
END:VEVENT
BEGIN:VEVENT
DTSTART;TZID=Europe/Paris:20251230T200000
DTEND;TZID=Europe/Paris:20251230T220000
DTSTAMP:20260420T063501
CREATED:20251125T091304Z
LAST-MODIFIED:20251128T093435Z
UID:800-1767124800-1767132000@koor.tuma-mashua.net
SUMMARY:Geen repetitie
DESCRIPTION:
URL:https://koor.tuma-mashua.net/event/geen-repetitie-3/
LOCATION:GC Den Bussel\, Haachtsebaan\, 54\, Keerbergen\, 3140\, Belgium
CATEGORIES:Openbaar,Repetities
END:VEVENT
BEGIN:VEVENT
DTSTART;TZID=Europe/Paris:20251224T133000
DTEND;TZID=Europe/Paris:20251224T140000
DTSTAMP:20260420T063501
CREATED:20251125T092626Z
LAST-MODIFIED:20251128T093445Z
UID:808-1766583000-1766584800@koor.tuma-mashua.net
SUMMARY:Zangstonde in de schaatsbaan
DESCRIPTION:
URL:https://koor.tuma-mashua.net/event/zangstonde-in-de-schaatsbaan/
LOCATION:Ijsbaan Keerbergen\, Gemeenteplein\, Keerbergen\, 3140\, Belgium
CATEGORIES:Openbaar,Optredens
ATTACH;FMTTYPE=image/png:https://koor.tuma-mashua.net/wp-content/uploads/sites/7/2025/11/Geplakte-afbeelding-2.png
END:VEVENT
BEGIN:VEVENT
DTSTART;TZID=Europe/Paris:20251224T113000
DTEND;TZID=Europe/Paris:20251224T120000
DTSTAMP:20260420T063501
CREATED:20251125T092348Z
LAST-MODIFIED:20251128T093457Z
UID:806-1766575800-1766577600@koor.tuma-mashua.net
SUMMARY:Zangstonde in de schaatsbaan
DESCRIPTION:
URL:https://koor.tuma-mashua.net/event/zangstonde-in-de-schaatsbaa/
LOCATION:Ijsbaan Keerbergen\, Gemeenteplein\, Keerbergen\, 3140\, Belgium
CATEGORIES:Openbaar,Optredens
ATTACH;FMTTYPE=image/png:https://koor.tuma-mashua.net/wp-content/uploads/sites/7/2025/11/Geplakte-afbeelding-2.png
END:VEVENT
BEGIN:VEVENT
DTSTART;TZID=Europe/Paris:20251224T110000
DTEND;TZID=Europe/Paris:20251224T113000
DTSTAMP:20260420T063501
CREATED:20251125T112936Z
LAST-MODIFIED:20251125T113602Z
UID:891-1766574000-1766575800@koor.tuma-mashua.net
SUMMARY:Inzingen optreden in Schaatsbaan
DESCRIPTION:
URL:https://koor.tuma-mashua.net/event/inzingen-optreden-in-schaatsbaan/
LOCATION:Raadszaal Gemeente Keerbergen\, Gemeenteplein\, Keeerbergen\, 3140\, Belgium
CATEGORIES:Leden,Repetities
END:VEVENT
BEGIN:VEVENT
DTSTART;TZID=Europe/Paris:20251224T100000
DTEND;TZID=Europe/Paris:20251224T170000
DTSTAMP:20260420T063501
CREATED:20251125T091611Z
LAST-MODIFIED:20251128T100055Z
UID:802-1766570400-1766595600@koor.tuma-mashua.net
SUMMARY:Openhouden schaatsbaan Keerbergen
DESCRIPTION:
URL:https://koor.tuma-mashua.net/event/openhouden-schaatsbaan-keerbergen/
LOCATION:Ijsbaan Keerbergen\, Gemeenteplein\, Keerbergen\, 3140\, Belgium
CATEGORIES:Koorevenementen,Openbaar
END:VEVENT
BEGIN:VEVENT
DTSTART;TZID=Europe/Paris:20251223T203000
DTEND;TZID=Europe/Paris:20251223T220000
DTSTAMP:20260420T063501
CREATED:20251125T091144Z
LAST-MODIFIED:20251128T093512Z
UID:798-1766521800-1766527200@koor.tuma-mashua.net
SUMMARY:Geen repetitie
DESCRIPTION:
URL:https://koor.tuma-mashua.net/event/geen-repetitie-2/
LOCATION:GC Den Bussel\, Haachtsebaan\, 54\, Keerbergen\, 3140\, Belgium
CATEGORIES:Openbaar,Repetities
END:VEVENT
BEGIN:VEVENT
DTSTART;TZID=Europe/Paris:20251216T200000
DTEND;TZID=Europe/Paris:20251216T220000
DTSTAMP:20260420T063501
CREATED:20251125T091017Z
LAST-MODIFIED:20251128T093523Z
UID:796-1765915200-1765922400@koor.tuma-mashua.net
SUMMARY:Geen repetitie
DESCRIPTION:
URL:https://koor.tuma-mashua.net/event/geen-repetitie/
LOCATION:GC Den Bussel\, Haachtsebaan\, 54\, Keerbergen\, 3140\, Belgium
CATEGORIES:Openbaar,Repetities
END:VEVENT
BEGIN:VEVENT
DTSTART;TZID=Europe/Paris:20251209T200000
DTEND;TZID=Europe/Paris:20251209T220000
DTSTAMP:20260420T063501
CREATED:20251125T093401Z
LAST-MODIFIED:20251128T093539Z
UID:814-1765310400-1765317600@koor.tuma-mashua.net
SUMMARY:Wekelijkse repetitie
DESCRIPTION:Speciaal gewijd aan de Kerstliederen voor de zangstonden in de schaatsbaan van Keerbergen
URL:https://koor.tuma-mashua.net/event/wekelijkse-repetitie-3/
LOCATION:Ijsbaan Keerbergen\, Gemeenteplein\, Keerbergen\, 3140\, Belgium
CATEGORIES:Openbaar,Repetities
END:VEVENT
BEGIN:VEVENT
DTSTART;TZID=Europe/Paris:20251202T200000
DTEND;TZID=Europe/Paris:20251202T220000
DTSTAMP:20260420T063501
CREATED:20251125T093140Z
LAST-MODIFIED:20251128T093530Z
UID:812-1764705600-1764712800@koor.tuma-mashua.net
SUMMARY:Wekelijkse repetitie
DESCRIPTION:Speciaal gewijd aan de Kerstliederen voor de zangstonde in de schaatsbaan van Kerbergen
URL:https://koor.tuma-mashua.net/event/wekelijkse-repetitie-2/
CATEGORIES:Openbaar,Repetities
END:VEVENT
BEGIN:VEVENT
DTSTART;TZID=Europe/Paris:20251125T200000
DTEND;TZID=Europe/Paris:20251125T220000
DTSTAMP:20260420T063501
CREATED:20250213T194305Z
LAST-MODIFIED:20251128T093548Z
UID:429-1764100800-1764108000@koor.tuma-mashua.net
SUMMARY:Wekelijkse repetitie
DESCRIPTION:
URL:https://koor.tuma-mashua.net/event/wekelijkse-repetitie-13/
LOCATION:GC Den Bussel\, Haachtsebaan\, 54\, Keerbergen\, 3140\, Belgium
CATEGORIES:Openbaar,Repetities
END:VEVENT
END:VCALENDAR