BEGIN:VCALENDAR
VERSION:2.0
PRODID:-//Koor Anahita - ECPv6.15.12.2//NONSGML v1.0//EN
CALSCALE:GREGORIAN
METHOD:PUBLISH
X-ORIGINAL-URL:https://koor.tuma-mashua.net
X-WR-CALDESC:Evenementen voor Koor Anahita
REFRESH-INTERVAL;VALUE=DURATION:PT1H
X-Robots-Tag:noindex
X-PUBLISHED-TTL:PT1H
BEGIN:VTIMEZONE
TZID:Europe/Paris
BEGIN:DAYLIGHT
TZOFFSETFROM:+0100
TZOFFSETTO:+0200
TZNAME:CEST
DTSTART:20250330T010000
END:DAYLIGHT
BEGIN:STANDARD
TZOFFSETFROM:+0200
TZOFFSETTO:+0100
TZNAME:CET
DTSTART:20251026T010000
END:STANDARD
BEGIN:DAYLIGHT
TZOFFSETFROM:+0100
TZOFFSETTO:+0200
TZNAME:CEST
DTSTART:20260329T010000
END:DAYLIGHT
BEGIN:STANDARD
TZOFFSETFROM:+0200
TZOFFSETTO:+0100
TZNAME:CET
DTSTART:20261025T010000
END:STANDARD
BEGIN:DAYLIGHT
TZOFFSETFROM:+0100
TZOFFSETTO:+0200
TZNAME:CEST
DTSTART:20270328T010000
END:DAYLIGHT
BEGIN:STANDARD
TZOFFSETFROM:+0200
TZOFFSETTO:+0100
TZNAME:CET
DTSTART:20271031T010000
END:STANDARD
END:VTIMEZONE
BEGIN:VEVENT
DTSTART;TZID=Europe/Paris:20260428T200000
DTEND;TZID=Europe/Paris:20260428T220000
DTSTAMP:20260419T230008
CREATED:20251125T104036Z
LAST-MODIFIED:20251128T093147Z
UID:861-1777406400-1777413600@koor.tuma-mashua.net
SUMMARY:Wekelijkse repetitie
DESCRIPTION:
URL:https://koor.tuma-mashua.net/event/861/
LOCATION:GC Den Bussel\, Haachtsebaan\, 54\, Keerbergen\, 3140\, Belgium
CATEGORIES:Openbaar,Repetities
END:VEVENT
END:VCALENDAR