BEGIN:VCALENDAR
VERSION:2.0
PRODID:-//Koor Anahita - ECPv6.15.12.2//NONSGML v1.0//EN
CALSCALE:GREGORIAN
METHOD:PUBLISH
X-ORIGINAL-URL:https://koor.tuma-mashua.net
X-WR-CALDESC:Evenementen voor Koor Anahita
REFRESH-INTERVAL;VALUE=DURATION:PT1H
X-Robots-Tag:noindex
X-PUBLISHED-TTL:PT1H
BEGIN:VTIMEZONE
TZID:Europe/Paris
BEGIN:DAYLIGHT
TZOFFSETFROM:+0100
TZOFFSETTO:+0200
TZNAME:CEST
DTSTART:20250330T010000
END:DAYLIGHT
BEGIN:STANDARD
TZOFFSETFROM:+0200
TZOFFSETTO:+0100
TZNAME:CET
DTSTART:20251026T010000
END:STANDARD
BEGIN:DAYLIGHT
TZOFFSETFROM:+0100
TZOFFSETTO:+0200
TZNAME:CEST
DTSTART:20260329T010000
END:DAYLIGHT
BEGIN:STANDARD
TZOFFSETFROM:+0200
TZOFFSETTO:+0100
TZNAME:CET
DTSTART:20261025T010000
END:STANDARD
BEGIN:DAYLIGHT
TZOFFSETFROM:+0100
TZOFFSETTO:+0200
TZNAME:CEST
DTSTART:20270328T010000
END:DAYLIGHT
BEGIN:STANDARD
TZOFFSETFROM:+0200
TZOFFSETTO:+0100
TZNAME:CET
DTSTART:20271031T010000
END:STANDARD
END:VTIMEZONE
BEGIN:VEVENT
DTSTART;TZID=Europe/Paris:20260127T200000
DTEND;TZID=Europe/Paris:20260127T220000
DTSTAMP:20260420T052640
CREATED:20251125T100446Z
LAST-MODIFIED:20251125T110801Z
UID:833-1769544000-1769551200@koor.tuma-mashua.net
SUMMARY:Wekelijkse repetitie
DESCRIPTION:
URL:https://koor.tuma-mashua.net/event/wekelijkse-repetitie-6/
LOCATION:GC Den Bussel\, Haachtsebaan\, 54\, Keerbergen\, 3140\, Belgium
CATEGORIES:Repetities
END:VEVENT
END:VCALENDAR